BEGIN:VCALENDAR
VERSION:2.0
PRODID:-//M &amp; M Group Accounting - ECPv4.6.13//NONSGML v1.0//EN
CALSCALE:GREGORIAN
METHOD:PUBLISH
X-WR-CALNAME:M &amp; M Group Accounting
X-ORIGINAL-URL:http://mmgroupaccounting.com.au
X-WR-CALDESC:Events for M &amp; M Group Accounting
BEGIN:VEVENT
DTSTART;TZID=Australia/Brisbane:20180418T080000
DTEND;TZID=Australia/Brisbane:20180418T170000
DTSTAMP:20190227T130249
CREATED:20180316T044540Z
LAST-MODIFIED:20180316T044540Z
UID:125-1524038400-1524070800@mmgroupaccounting.com.au
SUMMARY:Test
DESCRIPTION:
URL:http://mmgroupaccounting.com.au/event/test/
END:VEVENT
END:VCALENDAR